BEGIN:VCALENDAR
PRODID:-//kirchenweb.ch gmbh//veranstaltungsausgabe v2.0//DE
VERSION:2.0
METHOD:PUBLISH
BEGIN:VEVENT
DTSTART:20260614T084500Z
DTEND:20260614T094500Z
LOCATION:Kirche St. Peter\, \,
TRANSP:OPAQUE
SEQUENCE:0
UID:3214-veranstaltung@kath-ruemlang.ch
DTSTAMP:20250701T085041Z
DESCRIPTION:Singen und Tanzen\, Geschichten hören und Beten. Das machen
  wir in der Chrabbelfiir. Anschliessend gibt es im Pfarreizentrum Kafi
  für die Grossen\, Sirup und Guetzli für die Kleinen.\nEingeladen sind
  alle Familien mit Kindern bis 5 Jahren.\n\n\nKontakt: \n\nWeitere Infos:
  https://www.kath-ruemlang.ch/veranstaltung/3214
SUMMARY:Chrabbelfiir
PRIORITY:5
X-MICROSOFT-CDO-IMPORTANCE:1
CLASS:PUBLIC
END:VEVENT
END:VCALENDAR
