BEGIN:VCALENDAR
PRODID:-//kirchenweb.ch gmbh//veranstaltungsausgabe v2.0//DE
VERSION:2.0
METHOD:PUBLISH
BEGIN:VEVENT
DTSTART:20260410T170000Z
DTEND:20260410T180000Z
LOCATION:Kirche St. Peter\, \,
TRANSP:OPAQUE
SEQUENCE:0
UID:3274-veranstaltung@kath-ruemlang.ch
DTSTAMP:20250701T100116Z
DESCRIPTION:Anschliessend: Anprobe des Erstkommunion-Kleides\n\nKontakt: 
 \n\nWeitere Infos: https://www.kath-ruemlang.ch/veranstaltung/3274
SUMMARY:Erstkommunionweg: Versöhnungsfeier
PRIORITY:5
X-MICROSOFT-CDO-IMPORTANCE:1
CLASS:PUBLIC
END:VEVENT
END:VCALENDAR
