BEGIN:VCALENDAR
PRODID:-//kirchenweb.ch gmbh//veranstaltungsausgabe v2.0//DE
VERSION:2.0
METHOD:PUBLISH
BEGIN:VEVENT
DTSTART:20260624T113000Z
DTEND:20260624T140000Z
LOCATION:Zentrum St. Peter\, \,
TRANSP:OPAQUE
SEQUENCE:0
UID:3314-veranstaltung@kath-ruemlang.ch
DTSTAMP:20260414T112115Z
DESCRIPTION:Kontakt: \, \nHanna Caracoi\, \n\nWeitere Infos:
  https://www.kath-ruemlang.ch/veranstaltung/3314
SUMMARY:Heroes Thementag\, Teil 2: Die Zehn Gebote
PRIORITY:5
X-MICROSOFT-CDO-IMPORTANCE:1
CLASS:PUBLIC
END:VEVENT
END:VCALENDAR
