BEGIN:VCALENDAR
PRODID:-//kirchenweb.ch gmbh//veranstaltungsausgabe v2.0//DE
VERSION:2.0
METHOD:PUBLISH
BEGIN:VEVENT
DTSTART:20260621T100000Z
DTEND:20260621T140000Z
LOCATION:Reformierte Kirche / Kirchstrasse 11 / 8153 Rümlang\, \,
TRANSP:OPAQUE
SEQUENCE:0
UID:3316-veranstaltung@kath-ruemlang.ch
DTSTAMP:20250703T105422Z
DESCRIPTION:Zusammen mit unserer reformierten Schwesterkirche führen wir
  einen spannenden Familien-Nachmittag durch.\n\nJosef und seine Brüder
 \nWir tauchen ein in die biblische Welt des Alten Testamentes und
  begleiten Josef auf seinem Schicksalsweg. Wir starten mit einem
  gemeinsamen Mittagessen. In verschiedenen Ateliers können wir basteln\,
  singen\, malen und träumen. Im Kafi-Treff kommen wir bei Kaffee und
  Kuchen gemütlich zusammen und miteinander ins Gespräch. \n\nEingeladen
  sind alle Familien mit Kindern von 5 bis 12 Jahren.\n\n\n\n\nKontakt: \n
 \n\nWeitere Infos: https://www.kath-ruemlang.ch/veranstaltung/3316
SUMMARY:Ökumenischer Familien-Nachmittag
PRIORITY:5
X-MICROSOFT-CDO-IMPORTANCE:1
CLASS:PUBLIC
END:VEVENT
END:VCALENDAR
