BEGIN:VCALENDAR
PRODID:-//kirchenweb.ch gmbh//veranstaltungsausgabe v2.0//DE
VERSION:2.0
METHOD:PUBLISH
BEGIN:VEVENT
DTSTART:20260617T113000Z
DTEND:20260617T140000Z
LOCATION:Zentrum St. Peter\, \,
TRANSP:OPAQUE
SEQUENCE:0
UID:3317-veranstaltung@kath-ruemlang.ch
DTSTAMP:20250703T105755Z
DESCRIPTION:Kontakt: \n\nWeitere Infos:
  https://www.kath-ruemlang.ch/veranstaltung/3317
SUMMARY:Heroes: Vorbereitung ökum. Familien-Nachmittag
PRIORITY:5
X-MICROSOFT-CDO-IMPORTANCE:1
CLASS:PUBLIC
END:VEVENT
END:VCALENDAR
