BEGIN:VCALENDAR
PRODID:-//kirchenweb.ch gmbh//veranstaltungsausgabe v2.0//DE
VERSION:2.0
METHOD:PUBLISH
BEGIN:VEVENT
DTSTART:20260705T073000Z
DTEND:20260705T083000Z
LOCATION:Kirche St. Peter\, \,
TRANSP:OPAQUE
SEQUENCE:0
UID:3355-veranstaltung@kath-ruemlang.ch
DTSTAMP:20250711T144243Z
DESCRIPTION:Fest der hll. Petrus und Paulus
 \nhttps://schott.erzabtei-beuron.de/proprium/Juni29.htm?datum=2025-06-29&r
 =1\n\nPetrus ist der Namens-Patron unserer Kirche und der Pfarrei.\n
 \nFamilien-Gottesdienst zum Ferien-Beginn mit Spendung des Reise-Segens.\n
 \nHerzliche Einladung zur Mitfeier des Gottesdienstes.\n\n\n\nKontakt:
  Bruno Rüttimann\n\nWeitere Infos:
  https://www.kath-ruemlang.ch/veranstaltung/3355
SUMMARY:Familien-Gottesdienst mit Reise-Segen
PRIORITY:5
X-MICROSOFT-CDO-IMPORTANCE:1
CLASS:PUBLIC
END:VEVENT
END:VCALENDAR
