BEGIN:VCALENDAR
PRODID:-//kirchenweb.ch gmbh//veranstaltungsausgabe v2.0//DE
VERSION:2.0
METHOD:PUBLISH
BEGIN:VEVENT
DTSTART:20260605T080000Z
DTEND:20260605T090000Z
LOCATION:Alterszentrum Lindenhof\, Lindenstrasse 18\, 8153 Rümlang
TRANSP:OPAQUE
SEQUENCE:0
UID:3706-veranstaltung@kath-ruemlang.ch
DTSTAMP:20260414T111313Z
DESCRIPTION:Kontakt: Bruno Rüttimann\n\nWeitere Infos:
  https://www.kath-ruemlang.ch/veranstaltung/3706
SUMMARY:Eucharistiefeier im Alterszentrum Lindenhof
PRIORITY:5
X-MICROSOFT-CDO-IMPORTANCE:1
CLASS:PUBLIC
END:VEVENT
END:VCALENDAR
